BEGIN:VCALENDAR
VERSION:2.0
PRODID:-//Міністерство захисту довкілля та природних ресурсів України - ECPv5.1.4//NONSGML v1.0//EN
CALSCALE:GREGORIAN
METHOD:PUBLISH
X-WR-CALNAME:Міністерство захисту довкілля та природних ресурсів України
X-ORIGINAL-URL:https://mepr.gov.ua
X-WR-CALDESC:Events for Міністерство захисту довкілля та природних ресурсів України
BEGIN:VTIMEZONE
TZID:UTC
BEGIN:STANDARD
TZOFFSETFROM:+0000
TZOFFSETTO:+0000
TZNAME:UTC
DTSTART:20210101T000000
END:STANDARD
END:VTIMEZONE
BEGIN:VEVENT
DTSTART;TZID=UTC:20210909T150000
DTEND;TZID=UTC:20210909T150000
DTSTAMP:20260424T022705
CREATED:20210906T140100Z
LAST-MODIFIED:20230719T142331Z
UID:27167-1631199600-1631199600@mepr.gov.ua
SUMMARY:Засідання громадської ради при Міндовкіллі
DESCRIPTION:\n\n\nДо участі у заході запрошуються представники громадських організацій\, експерти та фахівці у сфері захисту довкілля. \n\n\n\nКоли: 9 вересня\, 15:00. \n\n\n\nДе: онлайн платформа ZOOM. \n\n\n\nПід час заходу учасники обговорять: \n\n\n\nПроблемні питання нормування і стандартизації у сфері охорони довкілля та забезпечення метрологічного контролю дотримання вимог природоохоронного законодавства.Зміни і доповнення до окремих положень законопроєкту «Про державний екологічний контроль» (реєстр. № 3091).Перспективи видобутку та переробки урану на території Дніпропетровської області підприємством ТОВ «Атомні енергетичні системи України».Порушення природоохоронного законодавства ТОВ «Біляївський збагачувальний комбінат».Результати розгляду звернень і рекомендацій за рішеннями минулих засідань громадської ради при Міндовкіллі.\n\n\n\nЗареєструватись на подію: https://forms.gle/CmbfVB9yU4qphPaDA \n\n\n\nПісля реєстрації учасник отримає посилання для підключення до конференції. \n\n\n\n\n\n\n\n\n\n\n
URL:https://mepr.gov.ua/oneevent/zasidannya-gromadskoyi-rady-pry-mindovkilli-2/
ATTACH;FMTTYPE=image/png:https://mepr.gov.ua/wp-content/uploads/2023/07/7.png
END:VEVENT
END:VCALENDAR