BEGIN:VCALENDAR
VERSION:2.0
PRODID:-//Міністерство захисту довкілля та природних ресурсів України - ECPv5.1.4//NONSGML v1.0//EN
CALSCALE:GREGORIAN
METHOD:PUBLISH
X-WR-CALNAME:Міністерство захисту довкілля та природних ресурсів України
X-ORIGINAL-URL:https://mepr.gov.ua
X-WR-CALDESC:Events for Міністерство захисту довкілля та природних ресурсів України
BEGIN:VTIMEZONE
TZID:UTC
BEGIN:STANDARD
TZOFFSETFROM:+0000
TZOFFSETTO:+0000
TZNAME:UTC
DTSTART:20230101T000000
END:STANDARD
END:VTIMEZONE
BEGIN:VEVENT
DTSTART;TZID=UTC:20230630T000000
DTEND;TZID=UTC:20230630T235959
DTSTAMP:20260422T122143
CREATED:20230620T074930Z
LAST-MODIFIED:20230620T173057Z
UID:23982-1688083200-1688169599@mepr.gov.ua
SUMMARY:Запрошуємо до обговорення перекладених довідкових референтних документів з НДТМ для підприємств з виробництва скла та кераміки
DESCRIPTION:\n\n\n \n\n\n\nНадалі ці документи будуть використовуватися для розроблення та затвердження висновків Найкращих доступних технологій та методів управління на національному рівні. Після запуску реформи зменшення промислового забруднення на їх основі в Україні видаватимуться інтегровані довкільні дозволи.  \n\n\n\nТож запрошуємо представників промисловості\, громадськості\, наукової спільноти\, органів влади та інших заінтересованих сторін долучитися до роботи у рамках круглого столу.  \n\n\n\nКоли: 30 червня 2023 року \n\n\n\nФормат: онлайн-платформа \n\n\n\nРеєстрація учасників триває до 27 червня за посиланням \n\n\n\nЧас проведення заходу\, порядок денний та посилання на зустріч буде надіслано додатково всім зареєстрованим учасникам. \n\n\n\nОзнайомитися з матеріалами можна за посиланням:  \n\n\n\nØ  Виробництво скла/ Manufacture of Glass \n\n\n\nØ  Керамічне виробництво/Ceramic Manufacturing Industry \n\n\n\nДокументи перекладені українською мовою за підтримки проєкту «Найкращі доступні технології та методи управління (НДТМ) для України\, що виконується GIZ Ukraine за дорученням Уряду Німеччини» та оприлюднені Міндовкіллям 9 травня 2023 року. \n\n\n\n\n\n\n\n\n\n\n
URL:https://mepr.gov.ua/oneevent/zaproshuyemo-do-obgovorennya-perekladenyh-dovidkovyh-referentnyh-dokumentiv-z-ndtm-dlya-pidpryyemstv-z-vyrobnytstva-skla-ta-keramiky/
ATTACH;FMTTYPE=image/jpeg:https://mepr.gov.ua/wp-content/uploads/2023/06/2006231.jpg
END:VEVENT
END:VCALENDAR