BEGIN:VCALENDAR
VERSION:2.0
PRODID:-//Міністерство захисту довкілля та природних ресурсів України - ECPv5.1.4//NONSGML v1.0//EN
CALSCALE:GREGORIAN
METHOD:PUBLISH
X-WR-CALNAME:Міністерство захисту довкілля та природних ресурсів України
X-ORIGINAL-URL:https://mepr.gov.ua
X-WR-CALDESC:Events for Міністерство захисту довкілля та природних ресурсів України
BEGIN:VTIMEZONE
TZID:UTC
BEGIN:STANDARD
TZOFFSETFROM:+0000
TZOFFSETTO:+0000
TZNAME:UTC
DTSTART:20230101T000000
END:STANDARD
END:VTIMEZONE
BEGIN:VEVENT
DTSTART;TZID=UTC:20230911T140000
DTEND;TZID=UTC:20230911T173000
DTSTAMP:20260422T093039
CREATED:20230908T065053Z
LAST-MODIFIED:20230908T065053Z
UID:30786-1694440800-1694453400@mepr.gov.ua
SUMMARY:Серія тренінгів з планування адаптації до зміни клімату для представників місцевих органів влади
DESCRIPTION:\n\n\nПредставники органів влади регіонів та міст України запрошуються до участі в серії безкоштовних онлайн-тренінгів з планування адаптації до зміни клімату на місцевому рівні.  \n\n\n\nГоловними темами тренінгів стане розробка муніципальних планів адаптації до зміни клімату\, створення регіональних програм із захисту довкілля та ознайомлення місцевих органів влади із фінансовими інструментами для їхнього впровадження. \n\n\n\nДата і час проведення 1-го тренінгу програми: 11 вересня\, 14:00 – 17.30 \n\n\n\nРеєстрація для участі у тренінгу: https://bit.ly/3r1a42h    \n\n\n\nДетальна програма: https://bit.ly/3LeuYSr \n\n\n\nПрограму тренінгів від провідних міжнародних та національних експертів у сфері зміни клімату організовано Програмою розвитку ООН в Україні (UNDP) у рамках регіонального проєкту Європейського Союзу EU4Climate. Проєкт ЄС “Угода мерів Схід” та Команда підтримки реформ Міндовкілля надали підтримку в підготовці серії тренінгів. \n\n\n\n\n\n\n\n\n\n\n
URL:https://mepr.gov.ua/oneevent/seriya-treningiv-z-planuvannya-adaptatsiyi-do-zminy-klimatu-dlya-predstavnykiv-mistsevyh-organiv-vlady/
ATTACH;FMTTYPE=image/png:https://mepr.gov.ua/wp-content/uploads/2023/09/trening.png
END:VEVENT
END:VCALENDAR