BEGIN:VCALENDAR
VERSION:2.0
PRODID:-//Міністерство захисту довкілля та природних ресурсів України - ECPv5.1.4//NONSGML v1.0//EN
CALSCALE:GREGORIAN
METHOD:PUBLISH
X-WR-CALNAME:Міністерство захисту довкілля та природних ресурсів України
X-ORIGINAL-URL:https://mepr.gov.ua
X-WR-CALDESC:Events for Міністерство захисту довкілля та природних ресурсів України
BEGIN:VTIMEZONE
TZID:UTC
BEGIN:STANDARD
TZOFFSETFROM:+0000
TZOFFSETTO:+0000
TZNAME:UTC
DTSTART:20230101T000000
END:STANDARD
END:VTIMEZONE
BEGIN:VEVENT
DTSTART;TZID=UTC:20230915T110000
DTEND;TZID=UTC:20230915T110000
DTSTAMP:20260422T093007
CREATED:20230913T145836Z
LAST-MODIFIED:20230913T145836Z
UID:31123-1694775600-1694775600@mepr.gov.ua
SUMMARY:"Збережи небо: захисти себе і озоновий шар": до Дня захисту озонового шару Міндовкілля організовує круглий стіл
DESCRIPTION:\n\n\nЕксперти\, представники різних проєктів\, органи влади разом з Міндовкіллям обговорюватимуть та ділитимуться цікавими фактами\, дослідженнями щодо захисту озонового шару планети. \n\n\n\nКоли: 15 вересня\, об 11:00 онлайн.Реєстрація на захід: https://bit.ly/46bLF94 Посилання для участі у заході буде надіслане після реєстрації. \n\n\n\n\n\n\n\n\n\n\n
URL:https://mepr.gov.ua/oneevent/zberezhy-nebo-zahysty-sebe-i-ozonovyj-shar-do-dnya-zahystu-ozonovogo-sharu-mindovkillya-organizovuye-kruglyj-stil/
ATTACH;FMTTYPE=image/jpeg:https://mepr.gov.ua/wp-content/uploads/2023/09/WhatsApp-Image-2023-09-13-at-17.36.11.jpeg
END:VEVENT
END:VCALENDAR