BEGIN:VCALENDAR
VERSION:2.0
PRODID:-//Міністерство захисту довкілля та природних ресурсів України - ECPv5.1.4//NONSGML v1.0//EN
CALSCALE:GREGORIAN
METHOD:PUBLISH
X-WR-CALNAME:Міністерство захисту довкілля та природних ресурсів України
X-ORIGINAL-URL:https://mepr.gov.ua
X-WR-CALDESC:Events for Міністерство захисту довкілля та природних ресурсів України
BEGIN:VTIMEZONE
TZID:UTC
BEGIN:STANDARD
TZOFFSETFROM:+0000
TZOFFSETTO:+0000
TZNAME:UTC
DTSTART:20240101T000000
END:STANDARD
END:VTIMEZONE
BEGIN:VEVENT
DTSTART;TZID=UTC:20240319T120000
DTEND;TZID=UTC:20240319T120000
DTSTAMP:20260421T225147
CREATED:20240311T115916Z
LAST-MODIFIED:20240318T143016Z
UID:41178-1710849600-1710849600@mepr.gov.ua
SUMMARY:Стратегічне планування управління відходами в Україні: розпочинаємо серію тренінгів для громад та бізнесу
DESCRIPTION:\n\n\nЯкі нові вимоги до планування управління відходами в регіонах та на місцях? Як розробити стратегічні документи так\, щоб вся національна система працювала як єдиний механізм\, а результат побачив кожен українець? Про що варто знати та що враховувати?  \n\n\n\nПро це\, а також нові виклики й можливості\, поговоримо під час тренінгів\, які Міндовкілля організовує спільно з обласними військовими адміністраціями та швейцарськими колегами. \n\n\n\nУ рамках запущеної реформи Україна переходить на європейські стандарти планування управління відходами – на чотирьох рівнях: національному\, регіональному\, місцевому\, а також на рівні кожного підприємства.  \n\n\n\nПід час тренінгів експерти детально розкажуть про: \n\n\n\n\nключові завдання Національного плану управління відходами та які складові та показники він міститиме;\n\n\n\nзаконодавство з розроблення регіональних та місцевих планів;\n\n\n\nметодичні рекомендації\, як складати такі плани. \n\n\n\n\nТож вже 13 березня перший тренінг пройде у м. Тернопіль. Серед запрошених – представники 6 областей (Тернопільської\, Волинської\, Закарпатської\, Івано-Франківської\, Львівської та Чернівецької). \n\n\n\nНаступні тренінги заплановані на: \n\n\n\n\n14 березня у м. Хмельницький – для представників Хмельницької\, Рівненської\, Житомирської\, Київської\, Чернігівської та Черкаської областей;\n\n\n\n15 березня у  Вінниці – для представників Вінницької\, Кіровоградської\, Миколаївської\, Одеської\, Полтавської та Дніпропетровської областей.\n\n\n\n19 березня у м. Суми – для представників Сумської\, Донецької\, Запорізької\, Луганської\, Харківської та Херсонської областей.\n\n\n\n\nТренінги організовано за підтримки швейцарсько-українського проєкту “Згуртованість та регіональний розвиток України\, UCORD. \n\n\n\n\n\n\n\n\n\n\n
URL:https://mepr.gov.ua/oneevent/strategichne-planuvannya-upravlinnya-vidhodamy-v-ukrayini-rozpochynayemo-seriyu-treningiv-dlya-gromad-ta-biznesu/
ATTACH;FMTTYPE=image/jpeg:https://mepr.gov.ua/wp-content/uploads/2024/03/spu-e1710158226438.jpg
END:VEVENT
END:VCALENDAR