BEGIN:VCALENDAR
VERSION:2.0
PRODID:-//Міністерство захисту довкілля та природних ресурсів України - ECPv5.1.4//NONSGML v1.0//EN
CALSCALE:GREGORIAN
METHOD:PUBLISH
X-WR-CALNAME:Міністерство захисту довкілля та природних ресурсів України
X-ORIGINAL-URL:https://mepr.gov.ua
X-WR-CALDESC:Events for Міністерство захисту довкілля та природних ресурсів України
BEGIN:VTIMEZONE
TZID:UTC
BEGIN:STANDARD
TZOFFSETFROM:+0000
TZOFFSETTO:+0000
TZNAME:UTC
DTSTART:20240101T000000
END:STANDARD
END:VTIMEZONE
BEGIN:VEVENT
DTSTART;TZID=UTC:20240903T133000
DTEND;TZID=UTC:20240903T133000
DTSTAMP:20260421T124747
CREATED:20240902T105438Z
LAST-MODIFIED:20240903T094040Z
UID:53089-1725370200-1725370200@mepr.gov.ua
SUMMARY:Запрошуємо обговорити проєкт правил технічної експлуатації сміттєспалювальних установок в Україні
DESCRIPTION:\n\n\nМіндовкілля підготувало Правила технічної експлуатації сміттєспалювальних установок\, які будуть обов’язковими при проєктуванні\, будівництві\, оснащенні та використанні таких установок. \n\n\n\nПравила охоплюють вимоги до проведення організаційних заходів на об’єктах спалювання\, приймання та зберігання відходів\, експлуатації установок\, управління залишками від спалювання. \n\n\n\nПравила поширюватимуться на всі установки в Україні\, окрім установок газифікації або піролізу\, якщо речовини (гази)\, що виникають у результаті термічного оброблення відходів\, очищуються та перестають бути відходами ще до їх спалювання. \n\n\n\nЗапрошуємо громадськість\, експертів та фахівців у сфері управління відходами обговорити деякі питання експлуатації установок спалювання відходів та установок сумісного спалювання відходів. \n\n\n\nКоли: 3 вересня 2024 року о 13:30Формат: онлайн\, платформа WebexПосилання для приєднання до наради:https://mepr.webex.com/mepr-ru/j.php?MTID=m03d2baf78a8fdbd01d9ad1bb9ef0ab28 \n\n\n\nКод наради: 2371 328 4873 \n\n\n\nПароль: tQExsfM36M2 \n\n\n\nОзнайомитися з проєктом наказу Міндовкілля про «Деякі питання експлуатації установок спалювання відходів та установок сумісного спалювання відходів» можна за посиланням: https://bit.ly/3yYVDzV \n\n\n\nДля отримання посилання для приєднання до обговорення звертайтесь до контактної особи: Ірина Баннікова\, на електронну пошту: bannikova@mepr.gov.ua\, або за тел. (044) 206 31 68. \n\n\n\n \n\n\n\n\n\n\n\n\n\n\n
URL:https://mepr.gov.ua/oneevent/zaproshuyemo-obgovoryty-proyekt-pravyl-tehnichnoyi-ekspluatatsiyi-smittyespalyuvalnyh-ustanovok-v-ukrayini/
ATTACH;FMTTYPE=image/jpeg:https://mepr.gov.ua/wp-content/uploads/2024/09/WhatsApp-Image-2024-09-02-at-13.51.29-e1725274463708.jpeg
END:VEVENT
END:VCALENDAR