BEGIN:VCALENDAR
VERSION:2.0
PRODID:-//Міністерство захисту довкілля та природних ресурсів України - ECPv5.1.4//NONSGML v1.0//EN
CALSCALE:GREGORIAN
METHOD:PUBLISH
X-WR-CALNAME:Міністерство захисту довкілля та природних ресурсів України
X-ORIGINAL-URL:https://mepr.gov.ua
X-WR-CALDESC:Events for Міністерство захисту довкілля та природних ресурсів України
BEGIN:VTIMEZONE
TZID:UTC
BEGIN:STANDARD
TZOFFSETFROM:+0000
TZOFFSETTO:+0000
TZNAME:UTC
DTSTART:20240101T000000
END:STANDARD
END:VTIMEZONE
BEGIN:VEVENT
DTSTART;TZID=UTC:20240910T110000
DTEND;TZID=UTC:20240910T120000
DTSTAMP:20260421T124726
CREATED:20240829T115527Z
LAST-MODIFIED:20240829T115527Z
UID:52804-1725966000-1725969600@mepr.gov.ua
SUMMARY:Як уникнути помилок у звітності: консультаційні зустрічі від Національного центру обліку викидів парникових газів
DESCRIPTION:\n\n\nНаціональний центр обліку викидів парникових газів спільно з Міністерством захисту довкілля та природних ресурсів України запрошують на консультаційні зустрічі\, на яких фахівці поділяться практичним досвідом у сфері моніторингу\, звітності та верифікації парникових газів (МЗВ). \n\n\n\nЗокрема\, говоритимемо про: \n\n\n\n▪ основні помилки та зауваження при затвердження плану моніторингу;▪ основні помилки та зауваження при подачі звіту оператора;▪ основні помилки та зауваження при подачі звіту про вдосконалення;▪ основні вимоги у сфері МЗВ. \n\n\n\nКоли:10 вересня з 11:00 до 12:00 \n\n\n\nФормат: онлайн Мова: українська \n\n\n\nРеєстрація триває до 2 вересня.https://forms.gle/uATwpe2c3bL92izKA \n\n\n\nПосилання на зустріч буде розіслана всім зареєстрованим учасникам на електронну пошту. \n\n\n\n\n\n\n\n\n\n\n
URL:https://mepr.gov.ua/oneevent/yak-unyknuty-pomylok-u-zvitnosti-konsultatsijni-zustrichi-vid-natsionalnogo-tsentru-obliku-vykydiv-parnykovyh-gaziv/
ATTACH;FMTTYPE=image/jpeg:https://mepr.gov.ua/wp-content/uploads/2024/08/WhatsApp-Image-2024-08-29-at-14.39.04-e1724932502458.jpeg
END:VEVENT
END:VCALENDAR