BEGIN:VCALENDAR
VERSION:2.0
PRODID:-//Міністерство захисту довкілля та природних ресурсів України - ECPv5.1.4//NONSGML v1.0//EN
CALSCALE:GREGORIAN
METHOD:PUBLISH
X-WR-CALNAME:Міністерство захисту довкілля та природних ресурсів України
X-ORIGINAL-URL:https://mepr.gov.ua
X-WR-CALDESC:Events for Міністерство захисту довкілля та природних ресурсів України
BEGIN:VTIMEZONE
TZID:UTC
BEGIN:STANDARD
TZOFFSETFROM:+0000
TZOFFSETTO:+0000
TZNAME:UTC
DTSTART:20240101T000000
END:STANDARD
END:VTIMEZONE
BEGIN:VEVENT
DTSTART;TZID=UTC:20241019T080000
DTEND;TZID=UTC:20241019T170000
DTSTAMP:20260421T112434
CREATED:20241016T071054Z
LAST-MODIFIED:20241016T071055Z
UID:56033-1729324800-1729357200@mepr.gov.ua
SUMMARY:19 жовтня в Гельсінкі\, Фінляндія\, відбудеться Міжнародна конференція\, присвячена восьмому пункту Української Формули миру "Екологічна безпека"
DESCRIPTION:\n\n\n\n\n\n\nКонференція організована Фінляндією\, яка спільно з Німеччиною та Болгарією є співголовою робочої групи по пункту 8 Формули миру “Екологічна безпека”. У заході запланована участь високопосадовців України\, Фінляндії та інших країн. \n\n\n\nКлючові теми для обговорення: \n\n\n\n\nОцінка впливу воєнних дій на довкілля.\n\n\n\nЗабезпечення відповідальності за екологічні злочини.\n\n\n\nПовоєнне відновлення екосистем.\n\n\n\nЗабезпечення екологічної стійкості та витривалості.\n\n\n\n\nЦя конференція має на меті розширити підтримку восьмого пункту Формули миру Президента Володимира Зеленського серед іноземних держав та міжнародних організацій\, а також визначити подальші спільні кроки для його реалізації. \n\n\n\n\n\n\n\n\n\n\n
URL:https://mepr.gov.ua/oneevent/19-zhovtnya-v-gelsinki-finlyandiya-vidbudetsya-mizhnarodna-konferentsiya-prysvyachena-vosmomu-punktu-ukrayinskoyi-formuly-myru-ekologichna-bezpeka/
ATTACH;FMTTYPE=image/jpeg:https://mepr.gov.ua/wp-content/uploads/2024/10/WhatsApp-Image-2024-10-16-at-09.57.14.jpeg
END:VEVENT
END:VCALENDAR