BEGIN:VCALENDAR
VERSION:2.0
PRODID:-//Міністерство захисту довкілля та природних ресурсів України - ECPv5.1.4//NONSGML v1.0//EN
CALSCALE:GREGORIAN
METHOD:PUBLISH
X-WR-CALNAME:Міністерство захисту довкілля та природних ресурсів України
X-ORIGINAL-URL:https://mepr.gov.ua
X-WR-CALDESC:Events for Міністерство захисту довкілля та природних ресурсів України
BEGIN:VTIMEZONE
TZID:UTC
BEGIN:STANDARD
TZOFFSETFROM:+0000
TZOFFSETTO:+0000
TZNAME:UTC
DTSTART:20240101T000000
END:STANDARD
END:VTIMEZONE
BEGIN:VEVENT
DTSTART;TZID=UTC:20241031T100000
DTEND;TZID=UTC:20241031T150000
DTSTAMP:20260421T100002
CREATED:20241027T161012Z
LAST-MODIFIED:20241028T074247Z
UID:56871-1730368800-1730386800@mepr.gov.ua
SUMMARY:31 жовтня– форум «Україна – на кліматичній конференції СОР29»
DESCRIPTION:\n\n\n\n\n\n\nУкраїна завершує підготовку до однієї з головних кліматичних подій року — Конференції ООН зі зміни клімату СОР29\, яка відбудеться в Баку в період з 11 по 22 листопада 2024 року. \n\n\n\n31 жовтня урядовці\, народні депутати\, представники дипломатичних установ\, міжнародних організацій\, бізнесу\, наукових спільнот та громадських організацій природоохоронного спрямування зберуться\, щоб обговорити як Україна готується до цієї події та які ініціативи планує представити на СОР29. \n\n\n\nОсновні теми заходу: \n\n\n\n\nМіжвідомча координація підготовки України до COP29. Актуалізація кліматичного порядку денного.\n\n\n\nРоль бізнесу в «зеленій» трансформації — які кроки вже зроблені\, а які попереду.\n\n\n\nОчікування від СОР29 – громадянське суспільство\, молодь та експерти.\n\n\n\n\nДата і час: 31 жовтня 2024 р.\, 10.00-15.00 \n\n\n\nФормат: онлайн (Zoom) / офлайн (м. Київ) \n\n\n\nЧерез безпекові вимоги місце проведення офлайн-заходу буде повідомлене зареєстрованим учасникам напередодні. Кількість місць обмежена\, але кожен зможе долучитися до конференції онлайн! \n\n\n\nДля участі у заході  обов’язкова реєстрація \n\n\n\n\n\n\n\n\n\n\n
URL:https://mepr.gov.ua/oneevent/31-zhovtnya-forum-predstavlennya-ukrayiny-na-klimatychnij-konferentsiyi-sor29/
ATTACH;FMTTYPE=image/jpeg:https://mepr.gov.ua/wp-content/uploads/2024/10/WhatsApp-Image-2024-10-28-at-08.38.51.jpeg
END:VEVENT
END:VCALENDAR