BEGIN:VCALENDAR
VERSION:2.0
PRODID:-//Міністерство захисту довкілля та природних ресурсів України - ECPv5.1.4//NONSGML v1.0//EN
CALSCALE:GREGORIAN
METHOD:PUBLISH
X-WR-CALNAME:Міністерство захисту довкілля та природних ресурсів України
X-ORIGINAL-URL:https://mepr.gov.ua
X-WR-CALDESC:Events for Міністерство захисту довкілля та природних ресурсів України
BEGIN:VTIMEZONE
TZID:UTC
BEGIN:STANDARD
TZOFFSETFROM:+0000
TZOFFSETTO:+0000
TZNAME:UTC
DTSTART:20240101T000000
END:STANDARD
END:VTIMEZONE
BEGIN:VEVENT
DTSTART;TZID=UTC:20241224T100000
DTEND;TZID=UTC:20241224T120000
DTSTAMP:20260420T081938
CREATED:20241122T140345Z
LAST-MODIFIED:20241223T132631Z
UID:59835-1735034400-1735041600@mepr.gov.ua
SUMMARY:Запрошуємо на тренінг з моніторингу\, звітності та верифікації викидів парникових газів
DESCRIPTION:\n\n\nМіністерство захисту довкілля та природних ресурсів України продовжує серію тренінгових сесій для операторів установок\, верифікаторів\, консультантів та інших зацікавлених осіб у сфері моніторингу\, звітності та верифікації викидів парникових газів.  \n\n\n\nТема наступної зустрічі: “Засоби вимірювальної техніки і невизначеність даних про діяльність”. \n\n\n\nЦей тренінг буде корисним для тих\, хто працює з системами моніторингу\, звітності та верифікації викидів\, а також для всіх зацікавлених у вдосконаленні своїх навичок у галузі. \n\n\n\nКоли: 26 листопада. \n\n\n\nЧас: з 10:00 до 12:00. \n\n\n\nДе: Онлайн платформа Webexhttps://mepr.webex.com/mepr-ru/j.php?MTID=mc6efe8df3f2959bff7960ad2d229cce6 \n\n\n\nРеєстрація не потрібна. Однак\, якщо у вас є запитання чи пропозиції\, будь ласка\, надсилайте їх на електронну пошту: nci.org.ua24@gmail.com \n\n\n\nІнформація про наступні тренінги буде оголошена під час поточної сесії. \n\n\n\nНагадаємо\, тренінг організовано в рамках проєкту «Підтримка впровадження схеми торгівлі квотами на викиди парникових газів (СТВ) в Україні»\, що реалізується GIZ в Україні за дорученням Федерального міністерства економіки та клімату Німеччини (BMWK) в рамках Міжнародної кліматичної ініціативи (ІКІ) з вересня 2017 року. \n\n\n\n\n\n\n\n\n\n\n
URL:https://mepr.gov.ua/oneevent/zaproshuyemo-na-trening-z-monitoryngu-zvitnosti-ta-veryfikatsiyi-vykydiv-parnykovyh-gaziv/
ATTACH;FMTTYPE=image/jpeg:https://mepr.gov.ua/wp-content/uploads/2024/11/WhatsApp-Image-2024-11-22-at-15.37.18-e1732284205534.jpeg
END:VEVENT
END:VCALENDAR