BEGIN:VCALENDAR
VERSION:2.0
PRODID:-//Міністерство захисту довкілля та природних ресурсів України - ECPv5.1.4//NONSGML v1.0//EN
CALSCALE:GREGORIAN
METHOD:PUBLISH
X-WR-CALNAME:Міністерство захисту довкілля та природних ресурсів України
X-ORIGINAL-URL:https://mepr.gov.ua
X-WR-CALDESC:Events for Міністерство захисту довкілля та природних ресурсів України
BEGIN:VTIMEZONE
TZID:UTC
BEGIN:STANDARD
TZOFFSETFROM:+0000
TZOFFSETTO:+0000
TZNAME:UTC
DTSTART:20250101T000000
END:STANDARD
END:VTIMEZONE
BEGIN:VEVENT
DTSTART;TZID=UTC:20250220T100000
DTEND;TZID=UTC:20250220T120000
DTSTAMP:20260421T053132
CREATED:20250217T162826Z
LAST-MODIFIED:20250217T162827Z
UID:65929-1740045600-1740052800@mepr.gov.ua
SUMMARY:Увага! Продовження тренінгових сесій у сфері моніторингу\, звітності та верифікації парникових газів
DESCRIPTION:\n\n\nУвага! Продовження тренінгових сесій у сфері моніторингу\, звітності та верифікації парникових газів \n\n\n\n\n\n\n\n20 лютого Міністерство захисту довкілля та природних ресурсів продовжує сесію тренінгів для операторів установок\, верифікаторів\, консультантів та інших зацікавлених осіб у сфері моніторингу\, звітності та верифікації. \n\n\n\nТема наступного заняття: Застосування систем неперервного вимірювання викидів \n\n\n\nТренінг пройде в онлайн форматі на платформі Webex і триватиме дві години – з 10:00 до 12:00.  \n\n\n\nПриєднатися до тренінгової сесії можна за посиланням: https://mepr.webex.com/mepr-ru/j.php?MTID=md53b1fedaf3168912bff40610f68dda9 \n\n\n\nПро наступне тренінгове заняття буде оголошено під час занять. \n\n\n\nЗвертаємо увагу\, що 1 лютого цього року набрав чинності Закон України «Про внесення змін до деяких законів України щодо відновлення моніторингу\, звітності та верифікації викидів парникових газів»\, яким передбачено\, що оператори\, які у період дії воєнного стану не провели державну реєстрацію установки в Єдиному реєстрі з МЗВ\, зобов’язані подати заяву про проведення такої державної реєстрації установки протягом 30 календарних днів з дня набрання чинності цим Законом та виконувати інші обов’язки передбачені законом України «Про засади моніторингу\, звітності та верифікації викидів парникових газів». \n\n\n\nМіндовкілля спільно із проєктом «Підтримка створення схеми торгівлі квотами на викиди парникових газів (СТВ) в Україні»* з 1 жовтня 2024 року розпочало серію навчальних заходів\, які покликані надати підтримку операторам установок\, верифікаторам та всім іншим зацікавленим учасникам процесу та допомогти розібратися в особливостях системи й законодавчих нововведеннях\, та відновити свої знання для сумлінного виконувати своїх обов’язків у сфері МЗВ. \n\n\n\nЗапитання та пропозиції\, які потребують особливої уваги та розгляду\, можна надіслати на електронну пошта: nci.org.ua24@gmail.com. \n\n\n\n*Тренінгові сесії організовано в рамках проєкту «Підтримка впровадження схеми торгівлі квотами на викиди парникових газів (СТВ) в Україні»\, що реалізується GIZ в Україні за дорученням Федерального міністерства економіки та клімату Німеччини (BMWK) в рамках Міжнародної кліматичної ініціативи (ІКІ) з вересня 2017 року. \n\n\n\n\n\n\n\n\n\n\n
URL:https://mepr.gov.ua/oneevent/uvaga-prodovzhennya-treningovyh-sesij-u-sferi-monitoryngu-zvitnosti-ta-veryfikatsiyi-parnykovyh-gaziv/
ATTACH;FMTTYPE=image/jpeg:https://mepr.gov.ua/wp-content/uploads/2025/02/WhatsApp-Image-2025-02-17-at-18.15.48.jpeg
END:VEVENT
END:VCALENDAR