BEGIN:VCALENDAR
VERSION:2.0
PRODID:-//Міністерство захисту довкілля та природних ресурсів України - ECPv5.1.4//NONSGML v1.0//EN
CALSCALE:GREGORIAN
METHOD:PUBLISH
X-WR-CALNAME:Міністерство захисту довкілля та природних ресурсів України
X-ORIGINAL-URL:https://mepr.gov.ua
X-WR-CALDESC:Events for Міністерство захисту довкілля та природних ресурсів України
BEGIN:VTIMEZONE
TZID:UTC
BEGIN:STANDARD
TZOFFSETFROM:+0000
TZOFFSETTO:+0000
TZNAME:UTC
DTSTART:20250101T000000
END:STANDARD
END:VTIMEZONE
BEGIN:VEVENT
DTSTART;TZID=UTC:20250407T100000
DTEND;TZID=UTC:20250407T170000
DTSTAMP:20260421T014833
CREATED:20250331T062317Z
LAST-MODIFIED:20250331T062318Z
UID:69337-1744020000-1744045200@mepr.gov.ua
SUMMARY:Запрошуємо 7 квітня на перший Форум стейкхолдерів Платформи зеленого відновлення України
DESCRIPTION:\n\n\nПлатформа створена як координаційний інструмент між українською владою та міжнародними партнерами\, який забезпечує інтеграцію екологічних аспектів та принципів сталого розвитку в процес відновлення України. \n\n\n\nЇї було започатковано в 2024 році під час проведення Міжнародної конференції з питань відновлення України в Берліні за підтримки Уряду Федеративної Республіки Німеччини спільно з ОЕСР\, ЮНЕП і ЄЕК ООН. \n\n\n\nФорум має на меті оцінити досягнутий прогрес\, скоординувати поточні ініціативи та визначити конкретні пріоритетні дії для зеленого відновлення України в наступному році. \n\n\n\nПід час форуму представники органів влади\, громадськості\, бізнесу\, науковці\, міжнародні організації та фінансові установи обговорять виклики та можливості “зеленого” відновлення України. У межах форуму заплановані чотири тематичні панельні дискусії: \n\n\n\n\nПрирода та біорізноманіття;\n\n\n\nЗелені фінанси;\n\n\n\nЕкологічна безпека тощо.\n\n\n\n\nЩоб долучитися до форуму онлайн\, просимо зареєструватися за посиланням до 3 квітня 2025 року: https://ugrp.com.ua/stakeholders-meeting-online \n\n\n\nЗа додатковою інформацією про захід звертайтеся за адресою: info@ugrp.com.ua. З питань підтримки реєстрації звертайтеся за адресою: support@ugrp.com.ua. \n\n\n\n\n\n\n\n\n\n\n
URL:https://mepr.gov.ua/oneevent/zaproshuyemo-7-kvitnya-na-pershyj-forum-stejkholderiv-platformy-zelenogo-vidnovlennya-ukrayiny/
ATTACH;FMTTYPE=image/jpeg:https://mepr.gov.ua/wp-content/uploads/2025/03/WhatsApp-Image-2025-03-28-at-16.12.27.jpeg
END:VEVENT
END:VCALENDAR