BEGIN:VCALENDAR
VERSION:2.0
PRODID:-//Міністерство захисту довкілля та природних ресурсів України - ECPv5.1.4//NONSGML v1.0//EN
CALSCALE:GREGORIAN
METHOD:PUBLISH
X-WR-CALNAME:Міністерство захисту довкілля та природних ресурсів України
X-ORIGINAL-URL:https://mepr.gov.ua
X-WR-CALDESC:Events for Міністерство захисту довкілля та природних ресурсів України
BEGIN:VTIMEZONE
TZID:UTC
BEGIN:STANDARD
TZOFFSETFROM:+0000
TZOFFSETTO:+0000
TZNAME:UTC
DTSTART:20240101T000000
END:STANDARD
END:VTIMEZONE
BEGIN:VEVENT
DTSTART;TZID=UTC:20241001T080000
DTEND;TZID=UTC:20241001T170000
DTSTAMP:20260419T204101
CREATED:20240906T071901Z
LAST-MODIFIED:20240930T163639Z
UID:53652-1727769600-1727802000@mepr.gov.ua
SUMMARY:Увага бізнесу! 1-го жовтня Міндовкілля запускає тренінгові сесії щодо МЗВ
DESCRIPTION:\n\n\nМіністерство захисту довкілля та природних ресурсів спільно із Товариством міжнародного співробітництва GIZ запускає тренінгові сесії щодо моніторингу\, звітності та верифікації викидів парникових газів для операторів установок\, консультантів\, верифікаторів. \n\n\n\nОрганізатори запрошують усіх зацікавлених осіб взяти участь у заході за адресою: Торгово-промислова палата\, вул. Велика Житомирська\, 33\, 1 поверх о 13:00. Формат гібридний – офлайн і онлайн. \n\n\n\nЗауважимо\, що навчання\, ініційовані Міндовкілля\, проводяться на безоплатній основі і є частиною реалізації кліматичної політики України. \n\n\n\nПід час підготовки до тренінгів\, організатори визначили остаточний перелік питань\, які виникають у підприємців під час збору відповідної інформації та подачі звітності спільно із представниками бізнесу. \n\n\n\nТакож експерти Міндовкілля розʼяснять пропозиції змін до Закону про МЗВ та нададуть консультації щодо профільного законодавства. \n\n\n\nНагадаємо\, що тренінгові сесії були ініційовані у зв’язку зі змінами у законодавстві у сфері МЗВ\, які відбулись у 2023 році\, а також відсутністю обов’язкової звітності у відповідній сфері під час війни. Це призвело до дефіциту досвіду у операторів установок у сфері МЗВ. \n\n\n\n\n\n\n\n\n\n\n
URL:https://mepr.gov.ua/oneevent/do-uvagy-biznesu-1-zhovtnya-mindovkillya-zapuskaye-treningovi-sesiyi-shhodo-mzv/
ATTACH;FMTTYPE=image/jpeg:https://mepr.gov.ua/wp-content/uploads/2024/09/WhatsApp-Image-2024-09-30-at-16.36.39-1.jpeg
END:VEVENT
END:VCALENDAR