BEGIN:VCALENDAR
VERSION:2.0
PRODID:-//Міністерство захисту довкілля та природних ресурсів України - ECPv5.1.4//NONSGML v1.0//EN
CALSCALE:GREGORIAN
METHOD:PUBLISH
X-WR-CALNAME:Міністерство захисту довкілля та природних ресурсів України
X-ORIGINAL-URL:https://mepr.gov.ua
X-WR-CALDESC:Events for Міністерство захисту довкілля та природних ресурсів України
BEGIN:VTIMEZONE
TZID:UTC
BEGIN:STANDARD
TZOFFSETFROM:+0000
TZOFFSETTO:+0000
TZNAME:UTC
DTSTART:20230101T000000
END:STANDARD
END:VTIMEZONE
BEGIN:VEVENT
DTSTART;TZID=UTC:20230804T110000
DTEND;TZID=UTC:20230804T170000
DTSTAMP:20260422T111027
CREATED:20230803T164831Z
LAST-MODIFIED:20230804T115934Z
UID:28071-1691146800-1691168400@mepr.gov.ua
SUMMARY:Як працювати зі зверненнями громадян\, що надходять на ЕкоЗагрозу
DESCRIPTION:\n\n\n4 липня Міндовкілля проведе 2 онлайн семінари для відповідальних осіб Держекоінспекції та облдержадміністрацій. У рамках заходів буде надано роз’яснення щодо процедури обробки електронних звернень в особистому кабінеті на ЕкоЗагрозі. \n\n\n\nКоли: \n\n\n\n11:00 – для відповідальних осіб Держекоінспекції за посиланням:\n\n\n\nhttps://mepr.webex.com/mepr-ru/j.php?MTID=m0626d133e73d02c956b69a2b6b15075f \n\n\n\n14:00 – для відповідальних осіб ОДА за посиланням:\n\n\n\nhttps://mepr.webex.com/mepr-ru/j.php?MTID=m4d6a11968884bb8da5295c08dbfd06d2 \n\n\n\nНагадаємо\, минулого тижня Уряд надав офіційний статус довкіллєвому ресурсу ЕкоЗагроза та повідомленням\, які подаються через сервіс. Встановлено і порядок реагування на них з боку Держекоінспекції та ОДА. Це дозволить сформувати повний відкритий Публічний реєстр збитків довкіллю\, дані з якого передаватимуться до Міжнародного реєстру збитків\, завданих агресією рф проти України. \n\n\n\nЕкоЗагроза – це вебресурс Міндовкілля\, де можна дізнатись достовірну інформацію про стан довкілля у своєму регіоні та повідомити про всі виявлені факти екологічних злочинів.Наразі через ЕкоЗагрозу ми вже отримали близько 2\,5 тисяч повідомлень про завдану шкоду довкіллю. \n\n\n\n\n\n\n\n\n\n\n
URL:https://mepr.gov.ua/oneevent/yak-pratsyuvaty-zi-zvernennyamy-gromadyan-shho-nadhodyat-na-ekozagrozu-mindovkillya-provede-vebinary-dlya-fahivtsiv-derzhekoinspektsiyi-ta-oblderzhadministratsij/
ATTACH;FMTTYPE=image/jpeg:https://mepr.gov.ua/wp-content/uploads/2023/08/e3f1f299-5e20-469a-aae9-3905b9fc0082.jpg
END:VEVENT
END:VCALENDAR