BEGIN:VCALENDAR
VERSION:2.0
PRODID:-//Міністерство захисту довкілля та природних ресурсів України - ECPv5.1.4//NONSGML v1.0//EN
CALSCALE:GREGORIAN
METHOD:PUBLISH
X-WR-CALNAME:Міністерство захисту довкілля та природних ресурсів України
X-ORIGINAL-URL:https://mepr.gov.ua
X-WR-CALDESC:Events for Міністерство захисту довкілля та природних ресурсів України
BEGIN:VTIMEZONE
TZID:UTC
BEGIN:STANDARD
TZOFFSETFROM:+0000
TZOFFSETTO:+0000
TZNAME:UTC
DTSTART:20230101T000000
END:STANDARD
END:VTIMEZONE
BEGIN:VEVENT
DTSTART;TZID=UTC:20230531T110000
DTEND;TZID=UTC:20230531T110000
DTSTAMP:20260422T135104
CREATED:20230530T131921Z
LAST-MODIFIED:20230604T153713Z
UID:22218-1685530800-1685530800@mepr.gov.ua
SUMMARY:Як розробити план поліпшення якості атмосферного повітря: Міндовкілля запрошує на семінар з обговорення методичних рекомендацій
DESCRIPTION:\n\n\n \n\n\n\nПід час заходу експерти розкажуть про важливість таких планів\, їх розробку та затвердження. А також про досвід впровадження планів поліпшення якості повітря та короткострокових планів дій в Європейському союзі. Опісля учасники матимуть змогу обговорити можливості підготовки відповідних планів в Україні. \n\n\n\nСемінар проведуть для представників органів управління якістю атмосферного повітря\, суб’єктів державного моніторингу в галузі охорони атмосферного повітря\, органів місцевого самоврядування та громадських організацій. \n\n\n\nКоли: 31 травня\, об 11:00.Долучитися можна за посиланням:https://us02web.zoom.us/j/86004477802?pwd=SGZtQ1lTQk9xc2xPUUQ2SUVzcy9Ydz09 \n\n\n\n\n\n\n\n\n\n\n
URL:https://mepr.gov.ua/oneevent/yak-rozrobyty-plan-polipshennya-yakosti-atmosfernogo-povitrya-mindovkillya-zaproshuye-na-seminar-z-obgovorennya-metodychnyh-rekomendatsij/
ATTACH;FMTTYPE=image/jpeg:https://mepr.gov.ua/wp-content/uploads/2023/05/30051-1.jpg
END:VEVENT
END:VCALENDAR